Workbook
Name Adresse_Standort: '1. Bedarfsermittlung'!$E$4
Name Aktuelle_Ausbaustufe: '3. Konzept Technik'!$L$15
Name Ansprechpartner_Standort: '1. Bedarfsermittlung'!$L$6
Name Anzahl_EBesucher_2025: '1. Bedarfsermittlung'!$L$31
Name Bedarf_Gäste_Besucher: '1. Bedarfsermittlung'!$L$34
Name Bedarf_SPIE: '1. Bedarfsermittlung'!$L$33
Name EFahrzeuge_2025: '1. Bedarfsermittlung'!$L$20
Name Firmierung: '1. Bedarfsermittlung'!$L$4
Name Geschäftsbereich: '1. Bedarfsermittlung'!$L$5
Name Gleichzeitigkeitsfaktor: '1. Bedarfsermittlung'!$L$22
Name LadepunkteErrichtung: '1. Bedarfsermittlung'!$L$36
Name LadepunkteVorhanden: '1. Bedarfsermittlung'!$L$35
Name Leasinglaufzeit: '4. GB-Leitung'!$L$35
Name Leasingrate: '4. GB-Leitung'!$L$34
Name SummeKostennachFörderung: '4. GB-Leitung'!$L$29
Name SummeKostenvorFörderung: '4. GB-Leitung'!$H$28
Name SummeLeasing: '4. GB-Leitung'!$L$33

Sheet Parameter  & GB-Leiter
B2: Parameter
B6: Netzanschluss
B7: Ausbau möglich / Leistung am Standort abzudecken? (Schriftliche Zusage von Netzbetreiber einholen) | C7: Netzausbaukosten durch SPIE zu tragen? | D7: Netzanschluss Anbindung Ausbau mit neuem Netzanschluss notwendig? | E7: Ergebnis
B8: Konzept Technik Feld L24 | C8: Konzept Technik Feld L25 | D8: Konzept Technik Feld L23
B9: Ja | C9: Ja | D9: Nein, Anbindung an Bestand | E9: 1
B10: Ja | C10: Nein | D10: Nein, Anbindung an Bestand | E10: 1
B11: Ja | C11: Ja | D11: Ja, neuer NS-Anschluss | E11: 2
B12: Ja | C12: Nein | D12: Ja, neuer NS-Anschluss | E12: 1
B13: Ja | C13: Ja | D13: Ja, neuer MS-Anschluss | E13: 2
B14: Ja | C14: Nein | D14: Ja, neuer MS-Anschluss | E14: 1
B15: Nein | C15: Ja | D15: Nein, Anbindung an Bestand | E15: 3
B16: Nein | C16: Nein | D16: Nein, Anbindung an Bestand | E16: 3
B17: Nein | C17: Ja | D17: Ja, neuer NS-Anschluss | E17: 3
B18: Nein | C18: Nein | D18: Ja, neuer NS-Anschluss | E18: 3
B19: Nein | C19: Ja | D19: Ja, neuer MS-Anschluss | E19: 3
B20: Nein | C20: Nein | D20: Ja, neuer MS-Anschluss | E20: 3
B21: Farbliche Markierung zeigt ausschlaggebende Werte für das Ergebnis
C24: Priorität der Parameter
C25: Prio | D25: Felder
C26: 1 | D26: Ausbau nicht möglich
C27: 2 | D27: Anbindung an Bestand
C28: 3 | D28: SPIE trägt Netzausbaukosten
B31: Vermieter
B32: Freigabe vom Vermieter erhalten | C32: Standort im Eigentum | D32: Mietdauer / Zeit bis Umzug | E32: Beteiligung am Invest durch Vermieter? | F32: Rückbauverpflichtung bei Umzug? | G32: Ergebnis
B33: Real Estate Feld L16 | C33: Real Estate Feld L14 | D33: Real Estate Feld L15 | E33: Real Estate Feld L19 | F33: Real Estate Feld L21
B34: Ja | C34: Ja | D34: Mehr als 3 Jahre | E34: Ja | F34: Ja | G34: 1
B35: Ja | C35: Ja | D35: Mehr als 3 Jahre | E35: Ja | F35: Nein | G35: 1
B36: Ja | C36: Ja | D36: Mehr als 3 Jahre | E36: Nein | F36: Ja | G36: 1
B37: Ja | C37: Ja | D37: Mehr als 3 Jahre | E37: Nein | F37: Nein | G37: 1
B38: Ja | C38: Ja | D38: Weniger als 3 Jahre | E38: Ja | F38: Ja | G38: 2
B39: Ja | C39: Ja | D39: Weniger als 3 Jahre | E39: Ja | F39: Nein | G39: 2
B40: Ja | C40: Ja | D40: Weniger als 3 Jahre | E40: Nein | F40: Ja | G40: 2
B41: Ja | C41: Ja | D41: Weniger als 3 Jahre | E41: Nein | F41: Nein | G41: 2
B42: Ja | C42: Nein | D42: Mehr als 3 Jahre | E42: Ja | F42: Ja | G42: 1
B43: Ja | C43: Nein | D43: Mehr als 3 Jahre | E43: Ja | F43: Nein | G43: 1
B44: Ja | C44: Nein | D44: Mehr als 3 Jahre | E44: Nein | F44: Ja | G44: 2
B45: Ja | C45: Nein | D45: Mehr als 3 Jahre | E45: Nein | F45: Nein | G45: 1
... B65: Nein | C65: Nein | D65: Weniger als 3 Jahre | E65: Nein | F65: Nein | G65: 3
B66: Farbliche Markierung zeigt ausschlaggebende Werte für das Ergebnis
C70: Priorität der Parameter
C71: Prio | D71: Felder
C72: 1 | D72: Keine Freigabe vom Vermieter
C73: 2 | D73: Standort im Eigentum und Mietdauer mehr als 3 Jahre
C74: 3 | D74: Standort im Eigentum und Mietdauer weniger als 3 Jahre
C75: 4 | D75: Mietdauer mehr als 3 Jahre und keine Rückbauverpflichtung
C76: 5 | D76: Beteiligung durch Vermieter
C77: 6 | D77: Mietdauer weniger als 3 Jahre und Keine Beteiligung durch Vermieter
C78: 7 | D78: Mietdauer weniger als 3 Jahre
C79: 8 | D79: Rückbauverpflichtung
B89: Gesamtübersicht
B90: Vermietung | C90: Dauer Mietvertrag / Standort-Garantie | D90: Mehr als drei Jahre | E90: Weniger als 3 Jahre, Verlängerung aber geplant | F90: Mietvertrag läuft weniger 3 Jahre
C91: & | D91: & | E91: ODER | F91: UND
C92: Rückbau-Verpflichtung | D92: Keine Rückbau-Verpflichtung | E92: Rückbauverpflichtung | F92: Vermieter übernimmt keinen Invest
C93: ODER | D93: ODER
C94: Beteiligung Mietvertrag | D94: Vermieter übernimmt Invest und legt Kosten auf Miete um
B95: Ökostrom | C95: Ökostrom | D95: Ökostrom abgeschlossen oder geplant | E95: Kein Ökostrom am Standort möglich | F95: -
B96: Invest | C96: Förderung / Investitionsbetrag | D96: Investbetrag abzüglich möglicher Förderung ist kleiner 25T€ | E96: Investbetrag abzüglich möglicher Förderung >25T€ & <100T€ | F96: Investbetrag abzüglich möglicher Förderung ist größer 100T€
C97: Finanzierungsangebot liegt vor
B98: Netzbetreiber | C98: Netzbetreiber / Hausanschlussleistung | D98: Leistung am Standort vorhanden | E98: Leistung kann über neue MS oder NS Anlage an den Standort gebracht werden | F98: Leistung nicht verfügbar
D99: ODER | E99: UND
D100: wird vom Vermieter gestellt | E100: Kostenübernahme durch SPIE
B101: Budget | C101: Budgetierung / Ergebniseinfluss | D101: Wurde ausreichend budgetiert à kein Ergebniseinfluss | E101: Wurde nicht ausreichend budgetiert à Einfluss auf Ergebnis kann kompensiert werden | F101: Wurde nicht ausreichend budgetiert à Einfluss auf Ergebnis kann nicht kompensiert werden, Ausbau wirkt ergebnismindernd
B105: GB-Leiter
B106: BTA: Jörn Ettenhofer Joern.Ettenhofer@spie.com
B107: CNG: Peter Pfannenstiel Peter.Pfannenstel@spie.com
B108: EF: Rainer Hollang Rainer.Hollang@spie.com
B109: ICS: Michael Hartung Michael.Hartung@spie.com
B110: HV: Burkhard Sager Burkhard.Sager@spie.com

Sheet Vorwort zum Prozess
B1: Vorwort Freigabeworkflow
B2: Im Projekt eFleet haben wir anhand der Erfahrungen der Pilotstandorte einen Handlungsleitfaden für den Ausbau von Ladeinfrastruktur an SPIE-Standorten erarbeitet. Aus dem Handlungsleitfaden haben wir eine Checkliste abgeleitet. Diese soll Ihnen einerseits helfen in Kurzform die wesentlichen Punkte für eine Investitionsentscheidung aufzubereiten und andererseits als Basis für den vorgegegebenen Freigabeprozess dienen. Achtung: Bitte füllen Sie in der Checkliste nur die grün-markierten Felder aus. Vielen Dank! Nachfolgend finden Sie die Übersicht des Freigabeprozesses grafisch dargestellt:
B5: Prozessumsetzung: • Der Antragssteller ermittelt den Bedarf für seinen Standort und erstellt das Ausbau-Konzept anhand der Blaupause • Danach holt er holt notwendige Freigaben der Fachabteilungen Real Estate (Frau Claudia Dernen) & Technik (Herr Roland Staubitz) ein und lässt sich das Ausbauprojekt hinsichtlich Budget von der GBL freigeben • Nach Klärung der o.a. Punkte und Unterzeichnung durch Standortleitung, Real-Estate und Technik wird das Formular durch das eFleet-Team zur Unterschrift an die Geschäftsbereichsleitung und anschließend zur Freigabe an die Geschäftsleitung eingereicht. • Für Rückfragen zum Freigabeprozess oder -formular sind je Thema Ansprechpartner im Formular vermerkt, an die Sie sich wenden können. • Die Vervollständigung der Freigabeformulare wird ab dem Start-Meeting vom eFleet Team begleitet, bis zur Unterzeichnung und dann eingereicht.

Sheet Executive Sumary (short)
B2: E-Fleet Freigabeformular | Executive Summary
B4: Allgemein | D4: Geschäftsbereich | G4: =IF('1. Bedarfsermittlung'!$L$5<>"",'1. Bedarfsermittlung'!$L$5,"Info fehlt") -> Info fehlt
D6: Standort | G6: =IF('1. Bedarfsermittlung'!$E$4<>"",'1. Bedarfsermittlung'!$E$4,"Info fehlt") -> Info fehlt
D8: Anzahl E-Fahrzeuge Bestand | G8: =IF('1. Bedarfsermittlung'!$L$15<>"",'1. Bedarfsermittlung'!$L$15,"Info fehlt") -> Info fehlt | J8: Anzahl E-Fahrzeuge geplant 2025 | M8: =IF('1. Bedarfsermittlung'!$L$20<>0,'1. Bedarfsermittlung'!$L$20,"Info fehlt") -> Info fehlt
D10: Ausbau / Scope bis 2025 | G10: =IF(LadepunkteErrichtung<>0,IF('1. Bedarfsermittlung'!$L$36<Aktuelle_Ausbaustufe,Aktuelle_Ausbaustufe,LadepunkteErrichtung),"Info fehlt") -> Info fehlt | J10: Freizugebene Ausbaustufe | M10: =IF(Aktuelle_Ausbaustufe="",$G$10,Aktuelle_Ausbaustufe) -> Info fehlt
B12: Laufzeit des Standorts | D12: Dauer Mietvertrag / Zeit bis Umzug | G12: =IF('2. Real Estate'!$L$15<>"",'2. Real Estate'!$L$15,"Info fehlt") -> Info fehlt | N12: =IF('2. Real Estate'!$L$15="mehr als 3 Jahre",1,IF('2. Real Estate'!$L$15="weniger als 3 Jahre",2,"Info fehlt")) -> Info fehlt
B14: Deal Breaker Kriterien | D14: Zusage vom Vermieter (wenn Vermietungsstandort) | N14: =IF('2. Real Estate'!$L$16="Ja",1,IF('2. Real Estate'!$L$16="Nein",3,IF('2. Real Estate'!$L$16="In Bearbeitung",2,"Info fehlt"))) -> Info fehlt
D16: Ausbaumöglichkeit des Netzes laut Netzbetreiber | N16: =IF('3. Konzept Technik'!$L$24="Ja",1,IF('3. Konzept Technik'!$L$24="Nein",3,"Info fehlt")) -> Info fehlt
D18: Backend chargecloud ist kompatibel mit ausgewählter Hardware | N18: =IF('3. Konzept Technik'!$L$27="","Info fehlt",IF('3. Konzept Technik'!$L$27="Ja",1,IF('3. Konzept Technik'!$L$27="Nein",3,""))) -> Info fehlt
D20: Ökostrom am Standort | N20: =IF('2. Real Estate'!$L$29="","Info fehlt",IF('2. Real Estate'!$L$29="Ja",1,IF(OR('2. Real Estate'!$L$29="Nein",'2. Real Estate'!$L$29="In Prüfung"),2,""))) -> Info fehlt
B22: Kosten | D22: Projekt-Ausbaukosten gesamt | G22: =IF(SummeKostennachFörderung="","Info fehlt",SummeKostennachFörderung) -> 0
D24: finanzierbarer Anteil | G24: =IF(SummeLeasing="","Info fehlt",SummeLeasing) -> 0 | J24: nicht finanzierbarer Anteil (einmalig) | M24: =IF('4. GB-Leitung'!$L$37="","Info fehlt",'4. GB-Leitung'!$L$37) -> 0
D26: Leasing Rate / Laufzeit | G26: =IF(Leasingrate="","Info fehlt",Leasingrate) -> Info fehlt | K26: / | L26: =IF(Leasinglaufzeit="","Info fehlt",Leasinglaufzeit) -> 60
D28: Kosten je Ladepunkt | G28: =IF($M$10="Info fehlt","Anzahl Ladepunkte fehlt",$G$22/$M$10) -> Anzahl Ladepunkte fehlt
B30: Kosten | D30: Projekt-Ausbaukosten gesamt | G30: =IF(SummeKostennachFörderung="","Info fehlt",SummeKostennachFörderung) -> 0
D32: Kosten je Ladepunkt | G32: =IF($G$22<>0,$G$22/$M$10,"Anzahl Ladepunkte fehlt") -> Anzahl Ladepunkte fehlt
B34: Finanzierung | D34: finanzierbarer Anteil | G34: =IF(SummeLeasing="","Info fehlt",SummeLeasing) -> 0 | J34: nicht finanzierbarer Anteil (einmalig) | M34: =IF('4. GB-Leitung'!$L$37="","Info fehlt",'4. GB-Leitung'!$L$37) -> 0
D36: Leasing Rate / Laufzeit | G36: =IF(Leasingrate="","Info fehlt",Leasingrate) -> Info fehlt | K36: / | L36: =IF(Leasinglaufzeit="","Info fehlt",Leasinglaufzeit) -> 60
B39: Bemerkungen:
B44: Erteilung Freigaben
B45: Standort: | I45: Technik:
C48: Ort, Datum, Unterschrift Antragsteller | J48: Ort, Datum, Unterschrift Technik
B49: Real Estate: | I49: Geschäftsbereichsleitung:
C52: Ort, Datum, Unterschrift Real Estate | J52: Ort, Datum, Unterschrift GBL

Sheet 1. Bedarfsermittlung
B2: E-Fleet Bedarfsermittlung | Standort
B4: Adresse Standort | I4: Firmierung
I5: Geschäftsbereich
B6: Ansprechpartner Zentral Konzept / Technik Name Kontaktdaten | E6: Roland STAUBITZ Roland.Staubitz@spie.com +49 201-8989-100 +49 177 632 6500 | I6: Ansprechpartner Standort Name Kontaktdaten
B11: 1. Bedarfsermittlung
B12: Nr | C12: Beschreibung
B13: 1 | C13: Fahrzeuganzahl
C14: Anzahl Bestands-Fahrzeuge am Standort (bis 3,5t, inkl. Verbrenner)
C15: davon E-Fahrzeuge
C16: Anzahl Fahrzeuge am Standort (bis 3,5t, inkl. Verbrenner) 2025 Gesamt
C17: Anteil E-Fahrzeuge bis 2025 in % | L17: 0.3
C18: Bemerkung
C20: E-Fahrzeuge bis 2025 (Aufgerundet auf ganze Fahrzeuge) | L20: =ROUNDUP(L16*L17,0) -> 0
B21: 2 | C21: Benötigte Ladepunkte je Fahrzeug / Gleichzeitigkeitsfaktor
C22: Richtwert 50-100% je nach Anwendungsfall 50% ergeben sich bei einer Mischung aus Service- und Poolfahrzeugen, die über Nacht am Standort laden und Dienstwägen, die überwiegend tagsüber am Standort laden. Der Prozentsatz erhöht sich, falls eine der Gruppen überwiegen sollte, da entweder tagsüber oder nachts eine höhere Anzahl an Fahrzeugen gleichzeitig einen Ladepunkt benötigt. | L22: 0.7
C23: Bemerkungen
B25: 3 | C25: Zusätzliche Lademöglichkeiten für Gäste und private Mitarbeiter-E-Fahrzeuge (optional)
C26: Gäste und Mitarbeiter werden zukünfitg vermekrt mit E-Fahrzeugen am Standort Lademöglichkeiten wünschen. Hierfür können Sie zusätzliche Ladepunkte errichten (Fahrzeuganzahl hier eintragen) oder bestehende Ladepunkte für die Nutzung durch Gäste / Privatfahrzeuge freischalten (auch nachträglich möglich).
C27: Anzahl Gäste / Privatfahrzeuge am Standort zu berücksichtigen: | L27: 0
C28: Anteil E-Fahrzeuge bis 2025 in % | L28: 0
C29: Bemerkungen
C31: Gäste/Privat-E-Fahrzeuge bis 2025 (Aufgerundet auf ganze Fahrzeuge) | L31: =ROUNDUP(L27*L28,0) -> 0
B32: 4 | C32: Ergebnis Bedarfsermittlung: Benötigte Ladepunkte / Berücksichtigung Bestand
C33: Bedarf Ladepunkte für SPIE-Flotte (Aufgerundet auf ganze Ladepunkte) | L33: =ROUNDUP((EFahrzeuge_2025)*Gleichzeitigkeitsfaktor,0) -> 0
C34: Bedarf Ladepunkte für Gäste / private Fahrzeuge | L34: =Anzahl_EBesucher_2025 -> 0
C35: Vorhandene Ladepunkte | L35: 0
C36: Bedarf zusätzliche Ladepunkte bis 2025 (Aufgerundet auf ganze Ladepunkte) | L36: =ROUNDUP((Bedarf_SPIE+Bedarf_Gäste_Besucher)-LadepunkteVorhanden,0) -> 0
B37: 5 | C37: Weitere Informationen / Bemerkungen
B40: Bestätigung der oben gemachten Angaben
B41: Bitte die Freigabe des Antragstellers durch Unterschrift separat auf der Executive Summary (short) vornehmen - vielen Dank!
F44: Ort, Datum, Unterschrift Antragsteller

Sheet 2. Real Estate
B2: E-Fleet Freigabeformular | Real Estate
B4: Adresse Standort | E4: =IF(Adresse_Standort="","",Adresse_Standort) | I4: Firmierung | L4: =IF(Firmierung="","",Firmierung)
I5: Geschäftsbereich | L5: =IF(Geschäftsbereich="","",Geschäftsbereich)
B6: Ansprechpartner Zentral Real Estate Name Kontaktdaten | E6: Claudia Dernen Claudia.Dernen@spie.com +49 2102 / 3708-451 +49 174 / 3363342 | I6: Ansprechpartner Standort Name Kontaktdaten | L6: =IF(Ansprechpartner_Standort="","",Ansprechpartner_Standort)
L7: ='1. Bedarfsermittlung'!L7 -> 0
L8: ='1. Bedarfsermittlung'!L8 -> 0
L9: ='1. Bedarfsermittlung'!L9 -> 0
B11: 2. Real Estate
B12: Nr | C12: Beschreibung
B13: 1 | C13: Vermietervereinbarungen
C14: Standort Angemietet oder Eigentum ?
C15: Dauer des Mietvertrags / Zeit bis Umzug
C16: Schriftliche Vereinbarungen mit Vermieter über generellen Ausbau der Ladeinfrastruktur geschlossen?
C17: Schriftliche Vereinbarungen mit Vermieter über möglichen Ausbau der Netzanschlussleistung geschlossen?
C18: Branding der Ladeinfrastruktur mit Vermieter abgestimmt?
C19: Beteiligung am Invest durch Vermieter?
C20: Weitere Vereinbarungen geschlossen? Wenn ja, bitte spezifizieren.
C21: Rückbauverpflichtung?
B22: 2 | C22: Genehmigungen Behörden
C23: Baugenehmigungen erforderlich ? (z.B. bei Trafo)
C24: Weitere Genehmigungen erforderlich ?
C25: Bemerkungen:
B27: 3 | C27: Ökostrom
C28: Standort aktuell mit Ökostrom versorgt ?
C29: Ökostrom am Standort möglich?
C30: Termin Umstellung Ökostrom (schnellstmöglich)
B31: 4 | C31: Weitere Informationen / Bemerkungen
B34: Bestätigung der oben gemachten Angaben
B35: Bitte die Freigabe von Real Estate durch Unterschrift separat auf der Executive Summary (short) vornehmen - vielen Dank!
F38: Ort, Datum, Unterschrift Antragsteller

Sheet 3. Konzept  Technik
B2: E-Fleet Freigabeformular | Technik
B4: Adresse Standort | E4: =IF(Adresse_Standort="","",Adresse_Standort) | I4: Firmierung | L4: =IF(Firmierung="","",Firmierung)
I5: Geschäftsbereich | L5: =IF(Geschäftsbereich="","",Geschäftsbereich)
B6: Ansprechpartner Zentral Konzept / Technik Name Kontaktdaten | E6: Roland Staubitz Roland.Staubitz@spie.com +49 201 / 8989-100 +49 177 / 6326500 | I6: Ansprechpartner Standort Name Kontaktdaten | L6: =IF(Ansprechpartner_Standort="","",Ansprechpartner_Standort)
L7: ='1. Bedarfsermittlung'!L7 -> 0
L8: ='1. Bedarfsermittlung'!L8 -> 0
L9: ='1. Bedarfsermittlung'!L9 -> 0
B11: 3. Konzept / Technik
B12: Nr | C12: Beschreibung
B13: 1 | C13: Bedarf Ladepunkte
C14: Zukünftig (bis 2025 gemäß Bedarfsermittlung) | L14: =LadepunkteErrichtung -> 0
C15: Aktuell / Zeitnaher Ausbau
B16: 2 | C16: Umfang des Ausbaus
C17: Anzahl AC Ladepunkte (Normalladepunkte)
C18: Anzahl DC Ladepunkte (Schnellladepunkte)
B19: 3 | C19: Nutzungskonzept
C20: Besucher mit E-Fahrzeugen berücksichtigt ?
C21: Mitarbeiter mit privaten E-Fahrzeugen berücksichtigt ?
B22: 4 | C22: Netzanschluss
C23: Netzanschluss Anbindung Ausbau mit neuem Netzanschluss notwendig? (Neuer Mittelspannungs-Anschluss (Trafo) oder neuer Niederspannungs-Anschluss (Messwandlerschrank) notwendig?
C24: Ausbau möglich / Leistung am Standort abzudecken? (Schriftliche Zusage von Netzbetreiber einholen) Anmeldepflicht bis 11kW Leistung je Wallbox Genehmigungspflicht bei mehr als 11kW Leistung je Wallbox
C25: Netzausbaukosten durch SPIE zu tragen?
B26: 5 | C26: Hardware / Backend nach Vorgabe
C27: Entspricht Hardware der Vorgabe? Bzw. Ist Hardware mit Backend kompatibel? (Vorgabe gemäß aktueller Blaupause)
C28: Entspricht Backend der Vorgabe? (Vorgabe gemäß aktueller Blaupause)
B29: 6 | C29: Umsetzung
C30: Planungsleistungen
C31: Bemerkungen:
C33: Bau- und Installationsleitungen
C34: Bemerkungen:
C36: Service-, Wartungsleistungen
C37: Bemerkungen:
B39: 7 | C39: Weitere Informationen / Bemerkungen
B42: Bestätigung der oben gemachten Angaben
B43: Bitte die Freigabe von Technik durch Unterschrift separat auf der Executive Summary (short) vornehmen - vielen Dank!
F46: Ort, Datum, Unterschrift Antragsteller

Sheet 4. GB-Leitung
B2: E-Fleet Freigabeformular | GB-Leitung
B4: Adresse Standort | E4: =IF(Adresse_Standort="","",Adresse_Standort) | I4: Firmierung | L4: =IF(Firmierung="","",Firmierung)
I5: Geschäftsbereich | L5: =IF(Geschäftsbereich="","",Geschäftsbereich)
B6: Ansprechpartner GBL Name Kontaktdaten | E6: CNG: Peter Pfannenstiel Peter.Pfannenstel@spie.com | I6: Ansprechpartner Standort Name Kontaktdaten | L6: =IF(Ansprechpartner_Standort="","",Ansprechpartner_Standort)
L7: ='1. Bedarfsermittlung'!L7 -> 0
L8: ='1. Bedarfsermittlung'!L8 -> 0
L9: ='1. Bedarfsermittlung'!L9 -> 0
B11: 4. GB-Leitung
B12: Nr | C12: Beschreibung
B13: 1 | C13: Förderung
C14: Förderprogramm verfügbar ?
C15: Mögliche Fördermittel (geschätzt)
C16: Fördermittel beantragt ?
C17: Förderzusage erhalten ?
B18: 2 | C18: Kosten / Budgetierung
C19: Kostenaufteilung:
C20: Ladestationen | G20: Kosten: | H20: 0 | J20: davon leasingfähig: | L20: 0
C21: Tiefbau | H21: 0 | L21: 0
C22: Verteiler | H22: 0 | L22: 0
C23: Dynamisches Lastmanagement | H23: 0 | L23: 0
C24: Installation & Inbetriebnahme | H24: 0 | L24: 0
C25: Planung / Doku / Projektmanagement | H25: 0 | L25: 0
H26: 0 | L26: 0
H27: 0 | L27: 0
C28: Gesamt | G28: Kosten: | H28: =SUM(H20:I27) -> 0 | J28: davon leasingfähig: | L28: =SUM(L20:M27) -> 0
C29: Projektausbaukosten gesamt (nach Abzug möglicher Förderungen) | L29: =H28-L15 -> 0
C30: Laufende Kosten für Betrieb, Wartung & Service pro Jahr | L30: =12*(0*9+0*2.5)+0*150 -> 0
C31: Einfluss auf Ergebnis? | L31: Nein
B32: 3 | C32: Finanzierung
C33: Für welchen Anteil der Projektausbaukosten liegt ein Finanzierungsangebot vor? | L33: =L28 -> 0
C34: Finanzierungsrate pro Monat
C35: Finanzierung Laufzeit in Monaten | L35: 60
C36: Gesamtkosten Finanzierung | L36: =L34*L35 -> 0
C37: Sonstige nicht-finanzierbare Kosten (z.B. nicht finanzierbarer Tiefbau) | L37: =IF(L14<>"Ja",L29-L33,"Bitte individuell berechnen") -> 0
B38: 4 | C38: Zeitplan
C39: Lieferzeiten Komponenten
C40: Voraussichtlicher Baustart
C41: Voraussichtliche Fertigstellung
B42: 5 | C42: Weitere Informationen / Bemerkungen
B45: Bestätigung der oben gemachten Angaben
B46: Bitte die Freigabe der GB-Leitung durch Unterschrift separat auf der Executive Summary (short) vornehmen - vielen Dank!
F49: Ort, Datum, Unterschrift Antragsteller
